BEGIN:VCALENDAR
VERSION:2.0
PRODID:-//www.esu1.org//NONSGML kigkonsult.se iCalcreator 2.30.10//
CALSCALE:GREGORIAN
METHOD:PUBLISH
UID:d55d26e2-1633-4887-b545-5934e933d092
X-WR-CALDESC:This professional development  offers education office staff t
 he opportunity to explore advancements and best practices in technology. T
 he day features sessions designed to keep your office operations modern\, 
 efficient\, and forward-looking.
X-WR-RELCALID:b7309803c51437397e0782b03faa42b8
X-WR-TIMEZONE:America/Chicago
BEGIN:VTIMEZONE
TZID:America/Chicago
BEGIN:STANDARD
TZNAME:CST
DTSTART:20251102T020000
TZOFFSETFROM:-0500
TZOFFSETTO:-0600
RDATE:20261101T020000
RDATE:20271107T020000
END:STANDARD
BEGIN:DAYLIGHT
TZNAME:CDT
DTSTART:20260308T020000
TZOFFSETFROM:-0600
TZOFFSETTO:-0500
RDATE:20270314T020000
END:DAYLIGHT
END:VTIMEZONE
BEGIN:VEVENT
UID:b8d215c3-fb19-4481-8665-adffeb6d54ca
DTSTAMP:20260420T172957Z
DESCRIPTION:This professional development  offers education office staff th
 e opportunity to explore advancements and best practices in technology. Th
 e day features sessions designed to keep your office operations modern\, e
 fficient\, and forward-looking.
DTSTART;TZID=America/Chicago:20260529T090000
DTEND;TZID=America/Chicago:20260529T150000
LOCATION:211 Tenth St\, Wakefield\, NE 68784 US
SUMMARY:Technology for Education Office Professionals
END:VEVENT
END:VCALENDAR
